BEGIN:VCALENDAR
VERSION:2.0
PRODID:-//Vosa Photography Workshops - ECPv6.8.1//NONSGML v1.0//EN
CALSCALE:GREGORIAN
METHOD:PUBLISH
X-WR-CALNAME:Vosa Photography Workshops
X-ORIGINAL-URL:https://vosaphotographyworkshops.com
X-WR-CALDESC:Events for Vosa Photography Workshops
REFRESH-INTERVAL;VALUE=DURATION:PT1H
X-Robots-Tag:noindex
X-PUBLISHED-TTL:PT1H
BEGIN:VTIMEZONE
TZID:UTC
BEGIN:STANDARD
TZOFFSETFROM:+0000
TZOFFSETTO:+0000
TZNAME:UTC
DTSTART:20240101T000000
END:STANDARD
END:VTIMEZONE
BEGIN:VEVENT
DTSTART;TZID=UTC:20241207T134500
DTEND;TZID=UTC:20241207T154500
DTSTAMP:20260420T173531
CREATED:20241115T165039Z
LAST-MODIFIED:20241205T162539Z
UID:100-1733579100-1733586300@vosaphotographyworkshops.com
SUMMARY:London photography workshop with model Katie.
DESCRIPTION:Check the end for terms and conditions\, by booking you are agreeing to them. \nWe meet outside Monument tube station\, infront of the Monument:\n42 Fish St Hill\nLondon EC3R 6AJ \nWe are booked with a new model Katie:\nhttps://www.instagram.com/katiepender/ \nWe will assist each other\, making it a great day to try and test. I will bring flash/reflector that you can use. \nSuitable for beginners and experienced photographers. Shoot for practice\, fun or your portfolio. Any advice or help that you need please just ask on the day\, I can set you up shooting in manual in no time. You can also use our flash and I can help you setting it up\, even if it is your first time. Reflectors will also be at hand. \nWe will shoot in a small group of max 4 in turns and helping each other. \nFilm cameras and video recording are welcome. \nYou can check what we have been up to lately on our Instagram \n@shooting_with_models. \nLooking forward to it! \nVirgilio\nhttps://vosaphotographyworkshops.com/\n@vosa.photography\nhttps://www.vosaportraits.com\nhttps://vosa.photography/ \nTerms and conditions: \nBy purchasing tickets to attend you are waiving any liability on my part for personal damage or accident to you or your personal belongings. \nYou are responsible for your own person and belongings. \nTickets are non refundable except in case of event cancellation\, please double check your schedule before signing up. \nYou agree to follow the organizers instructions at all times and be respectful to all attending and members of the public. \nWhen shooting with a model strictly no physical contact with the model\, you can instruct verbally or demonstrate asking to mirror your movement or position…Please keep comments tasteful. \nThe booked model could be changed if the original model could not attend for any reason. \nUsage: as the photographer you have the copyright\, models sign a model release form that allows the photographers in the workshop to use the photos for personal\, portfolio\, social media\, art\, competitions\, magazines… \nNot allowed usage : stock photography\, associated with third party brands\, demeaning and deep fake including adult content. \nYou can take a screen shot of the release free of charge on the day of the shoot\, if you need a copy afterwards there is a £10 admin fee. \nOccasionally you might be recorded in behind the scenes videos\, like the instagram stories that we post or the like with an effort to preserve your privacy but if you mind it just make it known by sending me a direct message and you wont appear in any recording.
URL:https://vosaphotographyworkshops.com/event/london-photography-workshop-with-model-katie/
LOCATION:Monument\, 42 Fish St Hill\, London\, EC3R 6AJ\, United Kingdom
CATEGORIES:London photography workshop
ATTACH;FMTTYPE=image/jpeg:https://vosaphotographyworkshops.com/wp-content/uploads/2024/11/katie-p1.jpg
END:VEVENT
END:VCALENDAR